BEGIN:VCALENDAR
VERSION:2.0
PRODID:-//Effingham County Chamber - ECPv5.14.1//NONSGML v1.0//EN
CALSCALE:GREGORIAN
METHOD:PUBLISH
X-WR-CALNAME:Effingham County Chamber
X-ORIGINAL-URL:https://effinghamcountychamber.com
X-WR-CALDESC:Events for Effingham County Chamber
REFRESH-INTERVAL;VALUE=DURATION:PT1H
X-Robots-Tag:noindex
X-PUBLISHED-TTL:PT1H
BEGIN:VTIMEZONE
TZID:America/Chicago
BEGIN:DAYLIGHT
TZOFFSETFROM:-0600
TZOFFSETTO:-0500
TZNAME:CDT
DTSTART:20250309T080000
END:DAYLIGHT
BEGIN:STANDARD
TZOFFSETFROM:-0500
TZOFFSETTO:-0600
TZNAME:CST
DTSTART:20251102T070000
END:STANDARD
END:VTIMEZONE
BEGIN:VEVENT
DTSTART;TZID=America/Chicago:20250503T100000
DTEND;TZID=America/Chicago:20250503T113000
DTSTAMP:20260423T094329
CREATED:20250407T172525Z
LAST-MODIFIED:20250407T172639Z
UID:22732-1746266400-1746271800@effinghamcountychamber.com
SUMMARY:Become a Foster Parent
DESCRIPTION:Let It Be Us offers a series of virtual educational events on topics surrounding Foster Care and Adoption in the State of Illinois. Our Live Foster Parent Recruitment Events are the in-person portion of this series. \n\n\n\n\n\n\n\n\n\n\n\n\n\n\n\n\n\n\n\nAre you interested in learning more about the Illinois child welfare system\, what it means to be a foster parent\, and how to get started? If yes\, join us for this informative fireside chat with Lutheran Child & Family Services\,  the second-largest community-based child welfare agency in Illinois\, dedicated to improving the well-being of people across the state by protecting children\, strengthening families and building futures for those who have experienced trauma.\n\n\nIf you are licensed or not yet licensed\, live in O’Fallon\, Bellville\, Mt. Vernon\, Waterloo\, and surrounding areas\, you are encouraged to join us!\n\nThis event is located at the Lutheran Child & Family Services O’Fallon Office – 711 Insight Avenue\, O’Fallon\, Illinois 62269. Questions may be directed to Cathy Newbury at cathynewbury@letitbeus.org.\n\n\n\n\n\n\n\n\n\n\n\n\n\n\n\n\n\n\nThis event is free and open to the public\nAccess to this event is completely IN-PERSON\, no virtual options\nRegistration for this event is required\nDuring the event\, attendees will have the opportunity for questions & answer\, to meet caseworkers\, to hear from experienced foster parents.\n\nLutheran Child & Family Services is committed to being supportive and responsive in collaborating with foster parents in serving children’s needs.  They provide: \n\nA Lutheran Child & Family Services team to provide guidance and support.\nHealth insurance for children placed in your home.\nTherapy\, counseling\, academic counseling and special education services when needed.\nTraining programs\, support groups and newsletters geared to foster families.\nMonthly financial support for the foster children’s basic needs\, including food\, clothing and housing costs.\nFunding for daycare\, after-school care\, and extracurricular activities including sports and art programs for eligible children in foster care.
URL:https://effinghamcountychamber.com/event/become-a-foster-parent/
LOCATION:LCFS Office – O’Fallon\, IL\, 711 Insight Ave.\, O'Fallon\, IL\, 62269
CATEGORIES:Community Events
ATTACH;FMTTYPE=image/jpeg:https://effinghamcountychamber.com/wp-content/uploads/2025/04/LCFS-Foster-Parent.jpg
END:VEVENT
END:VCALENDAR