BEGIN:VCALENDAR
VERSION:2.0
PRODID:-//Effingham County Chamber - ECPv5.14.1//NONSGML v1.0//EN
CALSCALE:GREGORIAN
METHOD:PUBLISH
X-WR-CALNAME:Effingham County Chamber
X-ORIGINAL-URL:https://effinghamcountychamber.com
X-WR-CALDESC:Events for Effingham County Chamber
REFRESH-INTERVAL;VALUE=DURATION:PT1H
X-Robots-Tag:noindex
X-PUBLISHED-TTL:PT1H
BEGIN:VTIMEZONE
TZID:America/Chicago
BEGIN:DAYLIGHT
TZOFFSETFROM:-0600
TZOFFSETTO:-0500
TZNAME:CDT
DTSTART:20260308T080000
END:DAYLIGHT
BEGIN:STANDARD
TZOFFSETFROM:-0500
TZOFFSETTO:-0600
TZNAME:CST
DTSTART:20261101T070000
END:STANDARD
END:VTIMEZONE
BEGIN:VEVENT
DTSTART;TZID=America/Chicago:20260514T170000
DTEND;TZID=America/Chicago:20260514T190000
DTSTAMP:20260423T114215
CREATED:20260219T183619Z
LAST-MODIFIED:20260320T133726Z
UID:27030-1778778000-1778785200@effinghamcountychamber.com
SUMMARY:Business After Hours & 30th Anniversary Celebration @ Bushue HR/Bushue Background Screening/Civil Design Inc.
DESCRIPTION:Join us for a special Business After Hours as we celebrate 30 years of Bushue HR\, Bushue Background Screening\, and Civil Design\, Inc.! \nThis evening is all about recognizing three businesses that have made a lasting impact in our community while also giving you the chance to connect with fellow Chamber members and local professionals in a relaxed setting. \nEnjoy light refreshments\, great conversation\, and the opportunity to meet the teams behind these three organizations as they celebrate this milestone together. \nBring your business cards\, come ready to connect\, and help us celebrate 30 years of business in Effingham County! \n 
URL:https://effinghamcountychamber.com/event/bah-may/
LOCATION:Bushue HR\, Inc.\, 302 E. Jefferson Ave.\, Effingham\, IL\, 62401\, United States
CATEGORIES:Chamber Events,Community Events,Member Events
ATTACH;FMTTYPE=image/png:https://effinghamcountychamber.com/wp-content/uploads/2021/07/Business_After_Hours.png
ORGANIZER;CN="Effingham%20County%20Chamber":MAILTO:info@effinghamcountychamber.com
END:VEVENT
END:VCALENDAR