BEGIN:VCALENDAR
VERSION:2.0
PRODID:-//Effingham County Chamber - ECPv5.14.1//NONSGML v1.0//EN
CALSCALE:GREGORIAN
METHOD:PUBLISH
X-WR-CALNAME:Effingham County Chamber
X-ORIGINAL-URL:https://effinghamcountychamber.com
X-WR-CALDESC:Events for Effingham County Chamber
REFRESH-INTERVAL;VALUE=DURATION:PT1H
X-Robots-Tag:noindex
X-PUBLISHED-TTL:PT1H
BEGIN:VTIMEZONE
TZID:America/Chicago
BEGIN:DAYLIGHT
TZOFFSETFROM:-0600
TZOFFSETTO:-0500
TZNAME:CDT
DTSTART:20260308T080000
END:DAYLIGHT
BEGIN:STANDARD
TZOFFSETFROM:-0500
TZOFFSETTO:-0600
TZNAME:CST
DTSTART:20261101T070000
END:STANDARD
END:VTIMEZONE
BEGIN:VEVENT
DTSTART;TZID=America/Chicago:20260416T170000
DTEND;TZID=America/Chicago:20260416T190000
DTSTAMP:20260423T083756
CREATED:20260219T181508Z
LAST-MODIFIED:20260407T154812Z
UID:27024-1776358800-1776366000@effinghamcountychamber.com
SUMMARY:Business After Hours @ Mid-Illinois Concrete
DESCRIPTION:Join us for a laid-back evening of networking hosted by Mid-Illinois Concrete. \nThis Business After Hours is all about good conversation\, new connections\, and getting to know one of the businesses helping build projects across our region. Guests will also have the opportunity to tour their newly completed facility\, finished in 2025\, and see firsthand how they continue investing in growth right here in Effingham County. \nEnjoy light refreshments\, meet fellow Chamber members\, and take advantage of relaxed after-hours networking in a brand-new space. \nBring your business cards and come ready to mix\, mingle\, and make a few new connections. \n \n 
URL:https://effinghamcountychamber.com/event/bah-april/
LOCATION:Mid-Illinois Concrete\, 1300 Commerce Ave.\, Effingham\, IL\, 62401\, United States
CATEGORIES:Chamber Events,Community Events,Member Events
ATTACH;FMTTYPE=image/png:https://effinghamcountychamber.com/wp-content/uploads/2021/07/Business_After_Hours.png
ORGANIZER;CN="Effingham%20County%20Chamber":MAILTO:info@effinghamcountychamber.com
END:VEVENT
END:VCALENDAR