BEGIN:VCALENDAR
VERSION:2.0
PRODID:-//Effingham County Chamber - ECPv5.14.1//NONSGML v1.0//EN
CALSCALE:GREGORIAN
METHOD:PUBLISH
X-WR-CALNAME:Effingham County Chamber
X-ORIGINAL-URL:https://effinghamcountychamber.com
X-WR-CALDESC:Events for Effingham County Chamber
REFRESH-INTERVAL;VALUE=DURATION:PT1H
X-Robots-Tag:noindex
X-PUBLISHED-TTL:PT1H
BEGIN:VTIMEZONE
TZID:America/Chicago
BEGIN:DAYLIGHT
TZOFFSETFROM:-0600
TZOFFSETTO:-0500
TZNAME:CDT
DTSTART:20250309T080000
END:DAYLIGHT
BEGIN:STANDARD
TZOFFSETFROM:-0500
TZOFFSETTO:-0600
TZNAME:CST
DTSTART:20251102T070000
END:STANDARD
END:VTIMEZONE
BEGIN:VEVENT
DTSTART;TZID=America/Chicago:20250522T103000
DTEND;TZID=America/Chicago:20250522T120000
DTSTAMP:20260425T054906
CREATED:20250328T135217Z
LAST-MODIFIED:20250328T135217Z
UID:22592-1747909800-1747915200@effinghamcountychamber.com
SUMMARY:Almost One Year In: Have You Been Complying with Chicago's Paid Leave and Paid Sick and Safe Leave Ordinance? (Webinar)
DESCRIPTION:The Chicago Paid Leave and Paid Sick and Safe Leave Ordinance took effect on July 1\, 2024.  Chicago’s Department of Business Affairs and Consumer Protection has issued clarifying guidance and administrative rules regarding compliance with that Ordinance. \nJoin Scott Cruz\, Labor and Employment Partner at UB Greensfelder\, LLP for this informational webinar as he discusses the Ordinance in order to help you understand what\, if any\, revisions or modifications to your written paid leave and paid sick leave policies you (hopefully) should have made and\, if the manner in which you are enforcing that written policy needs to change based on the clarifying guidance and applicable administrative rules. \n\nWhen registering\, please indicate Effingham COUNTY CHAMBER in the “Learned About it From” drop down to receive member pricing.
URL:https://effinghamcountychamber.com/event/almost-one-year-in-have-you-been-complying-with-chicagos-paid-leave-and-paid-sick-and-safe-leave-ordinance-webinar/
LOCATION:Webinar
CATEGORIES:Chamber Events,Member Events
ATTACH;FMTTYPE=image/jpeg:https://effinghamcountychamber.com/wp-content/uploads/2025/03/Chicagos-paid-leave.jpg
END:VEVENT
END:VCALENDAR