BEGIN:VCALENDAR
VERSION:2.0
PRODID:-//Effingham County Chamber - ECPv5.14.1//NONSGML v1.0//EN
CALSCALE:GREGORIAN
METHOD:PUBLISH
X-WR-CALNAME:Effingham County Chamber
X-ORIGINAL-URL:https://effinghamcountychamber.com
X-WR-CALDESC:Events for Effingham County Chamber
REFRESH-INTERVAL;VALUE=DURATION:PT1H
X-Robots-Tag:noindex
X-PUBLISHED-TTL:PT1H
BEGIN:VTIMEZONE
TZID:America/Chicago
BEGIN:DAYLIGHT
TZOFFSETFROM:-0600
TZOFFSETTO:-0500
TZNAME:CDT
DTSTART:20250309T080000
END:DAYLIGHT
BEGIN:STANDARD
TZOFFSETFROM:-0500
TZOFFSETTO:-0600
TZNAME:CST
DTSTART:20251102T070000
END:STANDARD
END:VTIMEZONE
BEGIN:VEVENT
DTSTART;TZID=America/Chicago:20250510T080000
DTEND;TZID=America/Chicago:20250510T110000
DTSTAMP:20260423T072057
CREATED:20250116T232531Z
LAST-MODIFIED:20250423T153603Z
UID:21438-1746864000-1746874800@effinghamcountychamber.com
SUMMARY:5K Run/Walk for Life
DESCRIPTION:Register NOW for the 5th Annual 5K Run/Walk for Life! \nFamily Life Center will be hosting a 5K on May 10th at 8am at the Trek Trail with the start/finish at the Effingham Performance Center. This run will support the FREE services offered at the Family Life Center. \nSign up online or stop by our office to register at 605 Eden Ave\, Effingham. \nDownload registration form here. \nEvent questions can be directed to:\nLinda Spindler\n(217) 342-5433\ndevelopment@familylifepcc.org
URL:https://effinghamcountychamber.com/event/5k-run-walk-for-life/
LOCATION:Effingham Performance Center\, 1325 Outer Belt West\, Effingham\, IL\, 62401\, United States
CATEGORIES:Community Events,Member Events
ATTACH;FMTTYPE=image/jpeg:https://effinghamcountychamber.com/wp-content/uploads/2025/01/FLPC-5k-icon.jpg
END:VEVENT
END:VCALENDAR